BEGIN:VCALENDAR
VERSION:2.0
PRODID:-//ChamberMaster//Event Calendar 2.0//EN
METHOD:PUBLISH
X-PUBLISHED-TTL:P3D
REFRESH-INTERVAL:P3D
CALSCALE:GREGORIAN
BEGIN:VEVENT
DTSTART:20131118T174500Z
DTEND:20131118T190000Z
X-MICROSOFT-CDO-ALLDAYEVENT:FALSE
SUMMARY:Lunch & Learn November 18\, 2013
DESCRIPTION:
X-ALT-DESC;FMTTYPE=text/html:
LOCATION:Chamber Office
UID:e.2263.395
SEQUENCE:3
DTSTAMP:20260420T085153Z
URL:https://business.bcschamber.org/events/details/lunch-learn-november-18-2013-11-18-2013-395
END:VEVENT

END:VCALENDAR
